BEGIN:VCALENDAR
VERSION:2.0
PRODID:-//Center for the Advancement of Well-Being - ECPv6.15.20//NONSGML v1.0//EN
CALSCALE:GREGORIAN
METHOD:PUBLISH
X-WR-CALNAME:Center for the Advancement of Well-Being
X-ORIGINAL-URL:https://wellbeing.gmu.edu
X-WR-CALDESC:Events for Center for the Advancement of Well-Being
REFRESH-INTERVAL;VALUE=DURATION:PT1H
X-Robots-Tag:noindex
X-PUBLISHED-TTL:PT1H
BEGIN:VTIMEZONE
TZID:America/New_York
BEGIN:DAYLIGHT
TZOFFSETFROM:-0500
TZOFFSETTO:-0400
TZNAME:EDT
DTSTART:20210314T070000
END:DAYLIGHT
BEGIN:STANDARD
TZOFFSETFROM:-0400
TZOFFSETTO:-0500
TZNAME:EST
DTSTART:20211107T060000
END:STANDARD
BEGIN:DAYLIGHT
TZOFFSETFROM:-0500
TZOFFSETTO:-0400
TZNAME:EDT
DTSTART:20220313T070000
END:DAYLIGHT
BEGIN:STANDARD
TZOFFSETFROM:-0400
TZOFFSETTO:-0500
TZNAME:EST
DTSTART:20221106T060000
END:STANDARD
BEGIN:DAYLIGHT
TZOFFSETFROM:-0500
TZOFFSETTO:-0400
TZNAME:EDT
DTSTART:20230312T070000
END:DAYLIGHT
BEGIN:STANDARD
TZOFFSETFROM:-0400
TZOFFSETTO:-0500
TZNAME:EST
DTSTART:20231105T060000
END:STANDARD
END:VTIMEZONE
BEGIN:VTIMEZONE
TZID:UTC
BEGIN:STANDARD
TZOFFSETFROM:+0000
TZOFFSETTO:+0000
TZNAME:UTC
DTSTART:20210101T000000
END:STANDARD
END:VTIMEZONE
BEGIN:VEVENT
DTSTART;TZID=America/New_York:20220421T090000
DTEND;TZID=America/New_York:20220421T130000
DTSTAMP:20260425T143714
CREATED:20220131T155601Z
LAST-MODIFIED:20240405T144817Z
UID:3895-1650531600-1650546000@wellbeing.gmu.edu
SUMMARY:Mental Health First Aid
DESCRIPTION:Learn more about mental health\, the stigma surrounding mental illness\, and how you can help people dealing with a mental health crisis! Mason students and employees\, register now for the next MHFA training\, which will take place April 21 and 22\, from 9 a.m. to 1 p.m. both days\, online. \nRegister here: https://go.gmu.edu/AprilMHFA
URL:https://wellbeing.gmu.edu/event/mental-health-first-aid-7/
CATEGORIES:Event
ATTACH;FMTTYPE=image/jpeg:https://wellbeing.gmu.edu/wp-content/uploads/2022/03/SIWB22-new-graphic.jpg
END:VEVENT
BEGIN:VEVENT
DTSTART;TZID=UTC:20220421T110000
DTEND;TZID=UTC:20220421T130000
DTSTAMP:20260425T143714
CREATED:20220407T151443Z
LAST-MODIFIED:20240401T185746Z
UID:3994-1650538800-1650546000@wellbeing.gmu.edu
SUMMARY:Gratitude Stations
DESCRIPTION:Stop by the Spring Into Well-Being Gratitude Station to engage in a science-backed practice for well-being – gratitude. You will have the opportunity to write a note of gratitude to someone\, and the Center for the Advancement of Well-Being will mail it on your behalf. You will also have the opportunity to learn about Pats for Pats\, a campus gratitude program created by Mason Chooses Kindness for students\, staff/faculty\, and alumni. Gratitude stations will serve as a check-in location for those participating in the Kindness Scavenger Hunt. \nLocated right outside of the Center for the Advancement of Well-Being (Northern Neck)!
URL:https://wellbeing.gmu.edu/event/gratitude-stations-2022-04-21/
ATTACH;FMTTYPE=image/jpeg:https://wellbeing.gmu.edu/wp-content/uploads/2022/03/SIWB22-new-graphic.jpg
END:VEVENT
BEGIN:VEVENT
DTSTART;TZID=UTC:20220421T110000
DTEND;TZID=UTC:20220421T140000
DTSTAMP:20260425T143714
CREATED:20220412T172844Z
LAST-MODIFIED:20220412T172844Z
UID:4009-1650538800-1650549600@wellbeing.gmu.edu
SUMMARY:You Can Save a Life! SHAB and Fairfax Prevention Coalition
DESCRIPTION:This event will be a rapid REVIVE! Narcan training by the Farifax Prevention Coalition in partnership with George Mason’s Student Health Advisory Board. Narcan is used to reverse the effects of an opioid overdose. Free t-shirts will be included along with a bunch of other swag! You can save a life! \nThursday\, April 21st 11AM-2PM\, located at the Student Union Building Lawn. \nRegister on Mason360: https://cglink.me/2d7/r1578083
URL:https://wellbeing.gmu.edu/event/you-can-save-a-life-shab-and-fairfax-prevention-coalition/
ATTACH;FMTTYPE=image/jpeg:https://wellbeing.gmu.edu/wp-content/uploads/2022/03/SIWB22-new-graphic.jpg
END:VEVENT
BEGIN:VEVENT
DTSTART;TZID=UTC:20220421T110000
DTEND;TZID=UTC:20220421T170000
DTSTAMP:20260425T143714
CREATED:20220407T172213Z
LAST-MODIFIED:20240401T185715Z
UID:3999-1650538800-1650560400@wellbeing.gmu.edu
SUMMARY:Kindness Scavenger Hunt
DESCRIPTION:Participate in the Spring Into Well-Being Kindness Scavenger Hunt brought to you by Mason Chooses Kindness. This opportunity gives you the chance to be reminded of simple\, everyday ways of bringing kindness to your community. Participants who complete the five-item scavenger hunt and submit documentation to the Center for the Advancement of Well-Being by 5 pm on Friday\, April 22 will receive an instant prize and be entered in a raffle to win a Kindness Basket. \nScavenger hunt details can be obtained at the Spring Into Well-Being Gratitude Stations (outside of the Center for the Advancement of Well-Being at Northern Neck from 11-1 on Monday\, April 18 – Friday\, April 22) and at the Be Kind To Yourself event (Northern Neck from 12-2 on Monday\, April 18).
URL:https://wellbeing.gmu.edu/event/kindness-scavenger-hunt-2022-04-21/
ATTACH;FMTTYPE=image/jpeg:https://wellbeing.gmu.edu/wp-content/uploads/2022/03/SIWB22-new-graphic.jpg
END:VEVENT
BEGIN:VEVENT
DTSTART;TZID=America/New_York:20220421T120000
DTEND;TZID=America/New_York:20220421T123000
DTSTAMP:20260425T143714
CREATED:20211122T195558Z
LAST-MODIFIED:20211122T195558Z
UID:3786-1650542400-1650544200@wellbeing.gmu.edu
SUMMARY:Mindful Mason Moments
DESCRIPTION:Mason students\, faculty\, and staff\, take a mindful break in your day and contribute to your well-being through Mindful Mason Moments! These free drop-in mindfulness sessions will take place both online and in-person during the spring 2021 semester.
URL:https://wellbeing.gmu.edu/event/mindful-mason-moments-77-2022-04-21/
LOCATION:Johnson Center\, Room G\, Fairfax Campus
ATTACH;FMTTYPE=image/jpeg:https://wellbeing.gmu.edu/wp-content/uploads/2021/06/mindfulness-meditation.jpg
END:VEVENT
BEGIN:VEVENT
DTSTART;TZID=America/New_York:20220421T120000
DTEND;TZID=America/New_York:20220421T123000
DTSTAMP:20260425T143714
CREATED:20211122T202559Z
LAST-MODIFIED:20211122T202559Z
UID:3813-1650542400-1650544200@wellbeing.gmu.edu
SUMMARY:Mindful Mason Moments
DESCRIPTION:Mason students\, faculty\, and staff\, take a mindful break in your day and contribute to your well-being through Mindful Mason Moments! These free drop-in mindfulness sessions will take place both online and in-person during the spring 2021 semester.
URL:https://wellbeing.gmu.edu/event/mindful-mason-moments-78-2022-04-21/
LOCATION:Colgan Hall\, Room 202\, SciTech Campus
ATTACH;FMTTYPE=image/jpeg:https://wellbeing.gmu.edu/wp-content/uploads/2021/06/mindfulness-meditation.jpg
END:VEVENT
BEGIN:VEVENT
DTSTART;TZID=UTC:20220421T120000
DTEND;TZID=UTC:20220421T130000
DTSTAMP:20260425T143714
CREATED:20220321T211456Z
LAST-MODIFIED:20220407T033454Z
UID:3950-1650542400-1650546000@wellbeing.gmu.edu
SUMMARY:Reclaim Your Power: Advocating for Your Health
DESCRIPTION:In this session\, we will discuss what medical bias is\, how racism can appear in healthcare\, and ways you can advocate for your needs as a patient.  \nRegister on Mason360: https://cglink.me/2d7/r1561521 \nPresented by Student Health Services \n 
URL:https://wellbeing.gmu.edu/event/reclaim-your-power-advocating-for-your-health/
ATTACH;FMTTYPE=image/jpeg:https://wellbeing.gmu.edu/wp-content/uploads/2022/03/SIWB22-new-graphic.jpg
END:VEVENT
BEGIN:VEVENT
DTSTART;TZID=UTC:20220421T133000
DTEND;TZID=UTC:20220421T140000
DTSTAMP:20260425T143714
CREATED:20220407T032612Z
LAST-MODIFIED:20240401T190918Z
UID:3978-1650547800-1650549600@wellbeing.gmu.edu
SUMMARY:Spring into Well-Being Focus Groups
DESCRIPTION:Help the Center for the Advancement of Well-Being by sharing your thoughts on well-being at focus group opportunities during Spring Into Well-Being. These sessions – two in person options and two zoom options – will be run by graduate students who work for the Center for the Advancement of Well-Being and University Life. We are looking to learn from Mason’s students\, staff\, and faculty. Feedback will help us onboard new staff this summer and will contribute to our plans for the 2022-23 academic year. Don’t miss out on this opportunity to add your voice to the conversation. Participants will receive a $10 gift card to the bookstore. \n*You can sign up for the specific day and time you would like to attend by scanning the QR code on the flyer or going here: https://bit.ly/SIWBFocusGroup
URL:https://wellbeing.gmu.edu/event/spring-into-well-being-focus-groups-2022-04-21/
END:VEVENT
BEGIN:VEVENT
DTSTART;TZID=UTC:20220421T140000
DTEND;TZID=UTC:20220421T150000
DTSTAMP:20260425T143714
CREATED:20220321T212135Z
LAST-MODIFIED:20220407T033521Z
UID:3951-1650549600-1650553200@wellbeing.gmu.edu
SUMMARY:For the Health of it: Health Insurance 101
DESCRIPTION:Health insurance can often seem like a daunting matter\, filled with jargon and loopholes. In this session\, we will discuss the basics of health insurance\, define common terms used\, and explore options for enrollment.  \nRegister on Mason360: https://cglink.me/2d7/r1561593 \nPresented by Student Health Services
URL:https://wellbeing.gmu.edu/event/for-the-health-of-it-health-insurance-101/
ATTACH;FMTTYPE=image/jpeg:https://wellbeing.gmu.edu/wp-content/uploads/2022/03/SIWB22-new-graphic.jpg
END:VEVENT
END:VCALENDAR