BEGIN:VCALENDAR
VERSION:2.0
PRODID:-//Center for the Advancement of Well-Being - ECPv6.15.20//NONSGML v1.0//EN
CALSCALE:GREGORIAN
METHOD:PUBLISH
X-WR-CALNAME:Center for the Advancement of Well-Being
X-ORIGINAL-URL:https://wellbeing.gmu.edu
X-WR-CALDESC:Events for Center for the Advancement of Well-Being
REFRESH-INTERVAL;VALUE=DURATION:PT1H
X-Robots-Tag:noindex
X-PUBLISHED-TTL:PT1H
BEGIN:VTIMEZONE
TZID:America/New_York
BEGIN:DAYLIGHT
TZOFFSETFROM:-0500
TZOFFSETTO:-0400
TZNAME:EDT
DTSTART:20210314T070000
END:DAYLIGHT
BEGIN:STANDARD
TZOFFSETFROM:-0400
TZOFFSETTO:-0500
TZNAME:EST
DTSTART:20211107T060000
END:STANDARD
BEGIN:DAYLIGHT
TZOFFSETFROM:-0500
TZOFFSETTO:-0400
TZNAME:EDT
DTSTART:20220313T070000
END:DAYLIGHT
BEGIN:STANDARD
TZOFFSETFROM:-0400
TZOFFSETTO:-0500
TZNAME:EST
DTSTART:20221106T060000
END:STANDARD
BEGIN:DAYLIGHT
TZOFFSETFROM:-0500
TZOFFSETTO:-0400
TZNAME:EDT
DTSTART:20230312T070000
END:DAYLIGHT
BEGIN:STANDARD
TZOFFSETFROM:-0400
TZOFFSETTO:-0500
TZNAME:EST
DTSTART:20231105T060000
END:STANDARD
END:VTIMEZONE
BEGIN:VEVENT
DTSTART;TZID=America/New_York:20220426T120000
DTEND;TZID=America/New_York:20220426T123000
DTSTAMP:20260424T072626
CREATED:20211122T195558Z
LAST-MODIFIED:20211122T195558Z
UID:3787-1650974400-1650976200@wellbeing.gmu.edu
SUMMARY:Mindful Mason Moments
DESCRIPTION:Mason students\, faculty\, and staff\, take a mindful break in your day and contribute to your well-being through Mindful Mason Moments! These free drop-in mindfulness sessions will take place both online and in-person during the spring 2021 semester.
URL:https://wellbeing.gmu.edu/event/mindful-mason-moments-77-2022-04-26/
LOCATION:Johnson Center\, Room G\, Fairfax Campus
ATTACH;FMTTYPE=image/jpeg:https://wellbeing.gmu.edu/wp-content/uploads/2021/06/mindfulness-meditation.jpg
END:VEVENT
BEGIN:VEVENT
DTSTART;TZID=America/New_York:20220426T120000
DTEND;TZID=America/New_York:20220426T123000
DTSTAMP:20260424T072626
CREATED:20211122T202559Z
LAST-MODIFIED:20211122T202559Z
UID:3814-1650974400-1650976200@wellbeing.gmu.edu
SUMMARY:Mindful Mason Moments
DESCRIPTION:Mason students\, faculty\, and staff\, take a mindful break in your day and contribute to your well-being through Mindful Mason Moments! These free drop-in mindfulness sessions will take place both online and in-person during the spring 2021 semester.
URL:https://wellbeing.gmu.edu/event/mindful-mason-moments-78-2022-04-26/
LOCATION:Colgan Hall\, Room 202\, SciTech Campus
ATTACH;FMTTYPE=image/jpeg:https://wellbeing.gmu.edu/wp-content/uploads/2021/06/mindfulness-meditation.jpg
END:VEVENT
END:VCALENDAR