BEGIN:VCALENDAR
VERSION:2.0
PRODID:-//Center for the Advancement of Well-Being - ECPv6.15.20//NONSGML v1.0//EN
CALSCALE:GREGORIAN
METHOD:PUBLISH
X-WR-CALNAME:Center for the Advancement of Well-Being
X-ORIGINAL-URL:https://wellbeing.gmu.edu
X-WR-CALDESC:Events for Center for the Advancement of Well-Being
REFRESH-INTERVAL;VALUE=DURATION:PT1H
X-Robots-Tag:noindex
X-PUBLISHED-TTL:PT1H
BEGIN:VTIMEZONE
TZID:America/New_York
BEGIN:DAYLIGHT
TZOFFSETFROM:-0500
TZOFFSETTO:-0400
TZNAME:EDT
DTSTART:20230312T070000
END:DAYLIGHT
BEGIN:STANDARD
TZOFFSETFROM:-0400
TZOFFSETTO:-0500
TZNAME:EST
DTSTART:20231105T060000
END:STANDARD
BEGIN:DAYLIGHT
TZOFFSETFROM:-0500
TZOFFSETTO:-0400
TZNAME:EDT
DTSTART:20240310T070000
END:DAYLIGHT
BEGIN:STANDARD
TZOFFSETFROM:-0400
TZOFFSETTO:-0500
TZNAME:EST
DTSTART:20241103T060000
END:STANDARD
BEGIN:DAYLIGHT
TZOFFSETFROM:-0500
TZOFFSETTO:-0400
TZNAME:EDT
DTSTART:20250309T070000
END:DAYLIGHT
BEGIN:STANDARD
TZOFFSETFROM:-0400
TZOFFSETTO:-0500
TZNAME:EST
DTSTART:20251102T060000
END:STANDARD
END:VTIMEZONE
BEGIN:VEVENT
DTSTART;TZID=America/New_York:20240425T090000
DTEND;TZID=America/New_York:20240425T100000
DTSTAMP:20260423T011335
CREATED:20240325T054332Z
LAST-MODIFIED:20240401T172126Z
UID:5577-1714035600-1714039200@wellbeing.gmu.edu
SUMMARY:#SIWB24 BringPatriot2Work: Meditation for Families
DESCRIPTION:Junior Patriots and families (if they wish) will join our very own Prof. Michael Galvin for beginning-level instructions on Mindfulness Meditation followed by guided meditation and Q & A! \nWhen: 9-10 a.m. \nWhere: The Source; 122 KGJ Hall \n#SIWB24
URL:https://wellbeing.gmu.edu/event/siwb24-bringpatriot2work-meditation-for-families/
LOCATION:The Source; 122 KGJ Hall
ATTACH;FMTTYPE=image/png:https://wellbeing.gmu.edu/wp-content/uploads/2024/03/SIWB-Logo_Final.png
END:VEVENT
BEGIN:VEVENT
DTSTART;TZID=America/New_York:20240425T090000
DTEND;TZID=America/New_York:20240425T100000
DTSTAMP:20260423T011335
CREATED:20240325T054635Z
LAST-MODIFIED:20240424T181514Z
UID:5579-1714035600-1714039200@wellbeing.gmu.edu
SUMMARY:#SIWB24 Junior Patriot Palooza
DESCRIPTION:Join Human Resources on the Merten Lawn for tie dying (bring your own white\, cotton shirt\, socks\, etc.)\, mini ceramic pot painting\, kindness rock painting\, and stuffed animal creation (limited number of animals available).  And come grab your Mason Pom Pom event giveaway! \nWhen: 9 a.m. to 10 a.m. \nWhere: Merten Lawn\, Fairfax Campus (in front of Merten Hall) \n#SIWB24
URL:https://wellbeing.gmu.edu/event/siwb24-junior-patriot-palooza/
LOCATION:Merten Lawn
ATTACH;FMTTYPE=image/png:https://wellbeing.gmu.edu/wp-content/uploads/2024/03/SIWB-Logo_Final.png
END:VEVENT
BEGIN:VEVENT
DTSTART;TZID=America/New_York:20240425T110000
DTEND;TZID=America/New_York:20240425T130000
DTSTAMP:20260423T011335
CREATED:20240325T055241Z
LAST-MODIFIED:20240424T153025Z
UID:5580-1714042800-1714050000@wellbeing.gmu.edu
SUMMARY:#SIWB24 Kindness Captured
DESCRIPTION:Thursday\, April 25th is Kindness Day for Spring Into Well-Being! Join the “Kindness Captured” station to snap Polaroid selfies\, with your friends\, colleagues\, or Junior Patriots and hang tags of kindness on our kindness tree\, symbolizing the focus on care\, compassion\, and well-being within our university community. Watch as the tree blossoms with acts of kindness and inspiration. \nWhen: 11 a.m. to 1 p.m. \nWhere: Northern Neck\, Fairfax Campus
URL:https://wellbeing.gmu.edu/event/siwb24-kindness-captured/
LOCATION:Northern Neck
ATTACH;FMTTYPE=image/png:https://wellbeing.gmu.edu/wp-content/uploads/2024/03/SIWB-Logo_Final.png
END:VEVENT
BEGIN:VEVENT
DTSTART;TZID=America/New_York:20240425T123000
DTEND;TZID=America/New_York:20240425T153000
DTSTAMP:20260423T011335
CREATED:20240417T173857Z
LAST-MODIFIED:20240417T173857Z
UID:5644-1714048200-1714059000@wellbeing.gmu.edu
SUMMARY:#SIWB24 Greenhouse and Gardens Tour and Activities - Wellness Walk: Steps to Plant Trees
DESCRIPTION:April is Earth Month. Warmer weather and spring blooms are calling for more time outdoors. Let’s gather as a community to walk\, connect\, and plant trees during Spring into Well-Being Week! Walk with Doni to hear about University Sustainability’s food producing sites as well as participate in seed sowing (at 2PM) and worm composting (at 2:45PM) activities.
URL:https://wellbeing.gmu.edu/event/siwb24-greenhouse-and-gardens-tour-and-activities-wellness-walk-steps-to-plant-trees/
LOCATION:Starting at Foragers Forest
ATTACH;FMTTYPE=image/png:https://wellbeing.gmu.edu/wp-content/uploads/2024/04/SIWB-Logo_Final.png
END:VEVENT
END:VCALENDAR