BEGIN:VCALENDAR
VERSION:2.0
PRODID:-//Center for the Advancement of Well-Being - ECPv6.15.20//NONSGML v1.0//EN
CALSCALE:GREGORIAN
METHOD:PUBLISH
X-WR-CALNAME:Center for the Advancement of Well-Being
X-ORIGINAL-URL:https://wellbeing.gmu.edu
X-WR-CALDESC:Events for Center for the Advancement of Well-Being
REFRESH-INTERVAL;VALUE=DURATION:PT1H
X-Robots-Tag:noindex
X-PUBLISHED-TTL:PT1H
BEGIN:VTIMEZONE
TZID:America/New_York
BEGIN:DAYLIGHT
TZOFFSETFROM:-0500
TZOFFSETTO:-0400
TZNAME:EDT
DTSTART:20250309T070000
END:DAYLIGHT
BEGIN:STANDARD
TZOFFSETFROM:-0400
TZOFFSETTO:-0500
TZNAME:EST
DTSTART:20251102T060000
END:STANDARD
BEGIN:DAYLIGHT
TZOFFSETFROM:-0500
TZOFFSETTO:-0400
TZNAME:EDT
DTSTART:20260308T070000
END:DAYLIGHT
BEGIN:STANDARD
TZOFFSETFROM:-0400
TZOFFSETTO:-0500
TZNAME:EST
DTSTART:20261101T060000
END:STANDARD
BEGIN:DAYLIGHT
TZOFFSETFROM:-0500
TZOFFSETTO:-0400
TZNAME:EDT
DTSTART:20270314T070000
END:DAYLIGHT
BEGIN:STANDARD
TZOFFSETFROM:-0400
TZOFFSETTO:-0500
TZNAME:EST
DTSTART:20271107T060000
END:STANDARD
END:VTIMEZONE
BEGIN:VEVENT
DTSTART;VALUE=DATE:20260204
DTEND;VALUE=DATE:20260507
DTSTAMP:20260421T005016
CREATED:20260122T004409Z
LAST-MODIFIED:20260126T224720Z
UID:6777-1770163200-1778111999@wellbeing.gmu.edu
SUMMARY:Spring into Well-Being 2026 (Students)
DESCRIPTION:Celebrate the spring semester by focusing on what matters most: your well-being! Spring into Well-Being is a university-wide initiative designed to help students\, faculty\, and staff thrive through intentional practices\, meaningful connections\, and engaging activities. \nFeatured Events for Students\n\nGrounded in Kindness\nFebruary 4 | 2:30 p.m. to 4 p.m. | Spiritual and Interfaith Center\, Fairfax\nStart the semester with intention! Create a goal punch card\, practice gratitude\, take a walk in the labyrinth\, and enjoy snacks in a space for healing\, reflection\, and grounding. This event is presented in partnership with the Center for Leadership and Intercultural Engagement.\n\n\nMason Intentional Kindness Day\nFebruary 17 | 11 a.m. to 1 p.m. | Johnson Center Kiosk\, Fairfax\nPledge to take a break from your devices and give yourself the gift of a focused presence for self-care. This event is presented in partnership with Mason Chooses Kindness.\n\n\nBrewing Connections\nSciTech: March 4\, 11:30 a.m. to 1:30 p.m. | Mason Square: March 17\, 12 noon to 2 p.m. | Fairfax: March 25\, 12 noon to 2 p.m.\nJoin Kindness Ambassadors and Strengths Coaches for a cozy drink and meaningful conversations that spark connection. This event is presented in partnership with Mason Chooses Kindness and the Student Strengths Program.\n\n\nMoney Smart Day\nApril 14-15 | Fairfax\, Mason Square\, and SciTech\nAn annual conference presented by the Financial Well-Being team at the Student Support and Advocacy Center (SSAC) in partnership with campus and community experts. More details will be available closer to the dates.\n\n\nWell-Being Pop-Up\nMay 6 | 11 a.m. to 1 p.m. | Fairfax\nInteractive activities at the SI2GO truck to support your physical and mental well-being during finals. This event is presented in partnership with Counseling and Psychological Services\, Student Health Services\, and Mason Recreation.\n\nJoin Us!\nSpring into Well-Being is your opportunity to pause\, reflect\, and connect. Whether you attend one event or many\, you’ll find ways to nurture your well-being and strengthen our George Mason community!
URL:https://wellbeing.gmu.edu/event/spring-into-well-being-2026-students/
ATTACH;FMTTYPE=image/png:https://wellbeing.gmu.edu/wp-content/uploads/2026/01/Students-Digital-Flyer-2.png
END:VEVENT
BEGIN:VEVENT
DTSTART;VALUE=DATE:20260204
DTEND;VALUE=DATE:20260507
DTSTAMP:20260421T005016
CREATED:20260122T004608Z
LAST-MODIFIED:20260126T224915Z
UID:6779-1770163200-1778111999@wellbeing.gmu.edu
SUMMARY:Spring into Well-Being 2026 (Faculty & Staff)
DESCRIPTION:Celebrate the spring semester by focusing on what matters most: your well-being! Spring into Well-Being is a university-wide initiative designed to help students\, faculty\, and staff thrive through intentional practices\, meaningful connections\, and engaging activities. \nFeatured Events for Faculty and Staff\n\nGrounded in Kindness\nFebruary 4 | 2:30 p.m. to 4 p.m. | Spiritual and Interfaith Center\, Fairfax\nStart the semester with intention! Create a goal punch card\, practice gratitude\, take a walk in the labyrinth\, and enjoy snacks in a space for healing\, reflection\, and grounding. This event is presented In partnership with the Center for Leadership and Intercultural Engagement.\n\n\nMason Intentional Kindness Day\nFebruary 17 | 11 a.m. to 1 p.m. | Johnson Center Kiosk\, Fairfax\nPledge to take a break from your devices and give yourself the gift of a focused presence for self-care. This event is presented in partnership with Mason Chooses Kindness.\n\n\nBrewing Connections\nSciTech: March 4\, 11:30 a.m. to 1:30 p.m. | Mason Square: March 17\, 12 noon to 2 p.m. | Fairfax: March 25\, 12 noon to 2 p.m.\nJoin Kindness Ambassadors and Strengths Coaches for a cozy drink and meaningful conversations that spark connection. This event is presented in partnership with Mason Chooses Kindness and the Student Strengths Program.\n\n\nTake Your Junior Patriot to Work Day\nApril 23 | All Campuses\nCelebrate family and occupational well-being with a day of connection and fun. This event is presented in partnership with Human Resources. Please contact engagehr@gmu.edu with questions.\n\n\nWell-Being Pop-Up\nMay 6 | 11 a.m. to 1 p.m. | Fairfax\nInteractive activities at the SI2GO truck to support your physical and mental well-being during finals. This event is presented in partnership with Counseling and Psychological Services\, Student Health Services\, and Mason Recreation.\n\nJoin Us!\nSpring into Well-Being is your opportunity to pause\, reflect\, and connect. Whether you attend one event or many\, you’ll find ways to nurture your well-being and strengthen our George Mason community!
URL:https://wellbeing.gmu.edu/event/spring-into-well-being-2026-faculty-staff/
ATTACH;FMTTYPE=image/png:https://wellbeing.gmu.edu/wp-content/uploads/2026/01/StaffFaculty-Digital-Flyer-1.png
END:VEVENT
END:VCALENDAR