BEGIN:VCALENDAR
VERSION:2.0
PRODID:-//Center for the Advancement of Well-Being - ECPv6.15.20//NONSGML v1.0//EN
CALSCALE:GREGORIAN
METHOD:PUBLISH
X-WR-CALNAME:Center for the Advancement of Well-Being
X-ORIGINAL-URL:https://wellbeing.gmu.edu
X-WR-CALDESC:Events for Center for the Advancement of Well-Being
REFRESH-INTERVAL;VALUE=DURATION:PT1H
X-Robots-Tag:noindex
X-PUBLISHED-TTL:PT1H
BEGIN:VTIMEZONE
TZID:America/New_York
BEGIN:DAYLIGHT
TZOFFSETFROM:-0500
TZOFFSETTO:-0400
TZNAME:EDT
DTSTART:20210314T070000
END:DAYLIGHT
BEGIN:STANDARD
TZOFFSETFROM:-0400
TZOFFSETTO:-0500
TZNAME:EST
DTSTART:20211107T060000
END:STANDARD
BEGIN:DAYLIGHT
TZOFFSETFROM:-0500
TZOFFSETTO:-0400
TZNAME:EDT
DTSTART:20220313T070000
END:DAYLIGHT
BEGIN:STANDARD
TZOFFSETFROM:-0400
TZOFFSETTO:-0500
TZNAME:EST
DTSTART:20221106T060000
END:STANDARD
BEGIN:DAYLIGHT
TZOFFSETFROM:-0500
TZOFFSETTO:-0400
TZNAME:EDT
DTSTART:20230312T070000
END:DAYLIGHT
BEGIN:STANDARD
TZOFFSETFROM:-0400
TZOFFSETTO:-0500
TZNAME:EST
DTSTART:20231105T060000
END:STANDARD
END:VTIMEZONE
BEGIN:VEVENT
DTSTART;TZID=America/New_York:20220201T120000
DTEND;TZID=America/New_York:20220201T123000
DTSTAMP:20260423T234410
CREATED:20211122T195558Z
LAST-MODIFIED:20211122T195558Z
UID:3762-1643716800-1643718600@wellbeing.gmu.edu
SUMMARY:Mindful Mason Moments
DESCRIPTION:Mason students\, faculty\, and staff\, take a mindful break in your day and contribute to your well-being through Mindful Mason Moments! These free drop-in mindfulness sessions will take place both online and in-person during the spring 2021 semester.
URL:https://wellbeing.gmu.edu/event/mindful-mason-moments-77/
LOCATION:Johnson Center\, Room G\, Fairfax Campus
ATTACH;FMTTYPE=image/jpeg:https://wellbeing.gmu.edu/wp-content/uploads/2021/06/mindfulness-meditation.jpg
END:VEVENT
BEGIN:VEVENT
DTSTART;TZID=America/New_York:20220201T120000
DTEND;TZID=America/New_York:20220201T123000
DTSTAMP:20260423T234410
CREATED:20211122T202559Z
LAST-MODIFIED:20211122T203312Z
UID:3789-1643716800-1643718600@wellbeing.gmu.edu
SUMMARY:Mindful Mason Moments
DESCRIPTION:Mason students\, faculty\, and staff\, take a mindful break in your day and contribute to your well-being through Mindful Mason Moments! These free drop-in mindfulness sessions will take place both online and in-person during the spring 2021 semester.
URL:https://wellbeing.gmu.edu/event/mindful-mason-moments-78/
LOCATION:Colgan Hall\, Room 202\, SciTech Campus
ATTACH;FMTTYPE=image/jpeg:https://wellbeing.gmu.edu/wp-content/uploads/2021/06/mindfulness-meditation.jpg
END:VEVENT
BEGIN:VEVENT
DTSTART;TZID=America/New_York:20220202T120000
DTEND;TZID=America/New_York:20220202T123000
DTSTAMP:20260423T234410
CREATED:20211122T192307Z
LAST-MODIFIED:20211122T195049Z
UID:3721-1643803200-1643805000@wellbeing.gmu.edu
SUMMARY:Mindful Mason Moments
DESCRIPTION:Mason students\, faculty\, and staff\, take a mindful break in your day and contribute to your well-being through Mindful Mason Moments! These free drop-in mindfulness sessions will take place both online and in-person during the spring 2021 semester. Join online here: go.gmu.edu/MindfulMason
URL:https://wellbeing.gmu.edu/event/mindful-mason-moments-75/
LOCATION:Online
ATTACH;FMTTYPE=image/jpeg:https://wellbeing.gmu.edu/wp-content/uploads/2021/06/mindfulness-meditation.jpg
END:VEVENT
BEGIN:VEVENT
DTSTART;TZID=America/New_York:20220203T120000
DTEND;TZID=America/New_York:20220203T123000
DTSTAMP:20260423T234410
CREATED:20211122T195558Z
LAST-MODIFIED:20240328T171726Z
UID:3764-1643889600-1643891400@wellbeing.gmu.edu
SUMMARY:Mindful Mason Moments
DESCRIPTION:Mason students\, faculty\, and staff\, take a mindful break in your day and contribute to your well-being through Mindful Mason Moments! These free drop-in mindfulness sessions will take place both online and in-person during the spring 2021 semester.
URL:https://wellbeing.gmu.edu/event/mindful-mason-moments-77-2022-02-03/
LOCATION:Johnson Center\, Room G\, Fairfax Campus
ATTACH;FMTTYPE=image/jpeg:https://wellbeing.gmu.edu/wp-content/uploads/2021/06/mindfulness-meditation.jpg
END:VEVENT
BEGIN:VEVENT
DTSTART;TZID=America/New_York:20220203T120000
DTEND;TZID=America/New_York:20220203T123000
DTSTAMP:20260423T234410
CREATED:20211122T202559Z
LAST-MODIFIED:20211122T203647Z
UID:3791-1643889600-1643891400@wellbeing.gmu.edu
SUMMARY:Mindful Mason Moments
DESCRIPTION:Mason students\, faculty\, and staff\, take a mindful break in your day and contribute to your well-being through Mindful Mason Moments! These free drop-in mindfulness sessions will take place both online and in-person during the spring 2021 semester.
URL:https://wellbeing.gmu.edu/event/mindful-mason-moments-78-2022-02-03/
LOCATION:Colgan Hall\, Room 202\, SciTech Campus
ATTACH;FMTTYPE=image/jpeg:https://wellbeing.gmu.edu/wp-content/uploads/2021/06/mindfulness-meditation.jpg
END:VEVENT
BEGIN:VEVENT
DTSTART;TZID=America/New_York:20220204T120000
DTEND;TZID=America/New_York:20220204T122000
DTSTAMP:20260423T234410
CREATED:20211122T193852Z
LAST-MODIFIED:20211122T200125Z
UID:3746-1643976000-1643977200@wellbeing.gmu.edu
SUMMARY:Mindful Mason Moments
DESCRIPTION:Mason students\, faculty\, and staff\, take a mindful break in your day and contribute to your well-being through Mindful Mason Moments! These free drop-in mindfulness sessions will take place both online and in-person during the spring 2021 semester. Join online here: go.gmu.edu/MindfulMason
URL:https://wellbeing.gmu.edu/event/mindful-mason-moments-76/
LOCATION:Online
ATTACH;FMTTYPE=image/jpeg:https://wellbeing.gmu.edu/wp-content/uploads/2021/06/mindfulness-meditation.jpg
END:VEVENT
BEGIN:VEVENT
DTSTART;TZID=America/New_York:20220207T120000
DTEND;TZID=America/New_York:20220207T123000
DTSTAMP:20260423T234410
CREATED:20220113T172605Z
LAST-MODIFIED:20220113T172605Z
UID:3857-1644235200-1644237000@wellbeing.gmu.edu
SUMMARY:Mindful Mason Moments
DESCRIPTION:Mason students\, faculty\, and staff\, take a mindful break in your day and contribute to your well-being through Mindful Mason Moments! These free drop-in mindfulness sessions will take place both online and in-person during the spring 2021 semester. Join online here: go.gmu.edu/MindfulMason
URL:https://wellbeing.gmu.edu/event/mindful-mason-moments-80/
LOCATION:Online
ATTACH;FMTTYPE=image/jpeg:https://wellbeing.gmu.edu/wp-content/uploads/2021/06/mindfulness-meditation.jpg
END:VEVENT
BEGIN:VEVENT
DTSTART;TZID=America/New_York:20220208T120000
DTEND;TZID=America/New_York:20220208T123000
DTSTAMP:20260423T234410
CREATED:20211122T195558Z
LAST-MODIFIED:20211122T195558Z
UID:3765-1644321600-1644323400@wellbeing.gmu.edu
SUMMARY:Mindful Mason Moments
DESCRIPTION:Mason students\, faculty\, and staff\, take a mindful break in your day and contribute to your well-being through Mindful Mason Moments! These free drop-in mindfulness sessions will take place both online and in-person during the spring 2021 semester.
URL:https://wellbeing.gmu.edu/event/mindful-mason-moments-77-2022-02-08/
LOCATION:Johnson Center\, Room G\, Fairfax Campus
ATTACH;FMTTYPE=image/jpeg:https://wellbeing.gmu.edu/wp-content/uploads/2021/06/mindfulness-meditation.jpg
END:VEVENT
BEGIN:VEVENT
DTSTART;TZID=America/New_York:20220208T120000
DTEND;TZID=America/New_York:20220208T123000
DTSTAMP:20260423T234410
CREATED:20211122T202559Z
LAST-MODIFIED:20211122T202559Z
UID:3792-1644321600-1644323400@wellbeing.gmu.edu
SUMMARY:Mindful Mason Moments
DESCRIPTION:Mason students\, faculty\, and staff\, take a mindful break in your day and contribute to your well-being through Mindful Mason Moments! These free drop-in mindfulness sessions will take place both online and in-person during the spring 2021 semester.
URL:https://wellbeing.gmu.edu/event/mindful-mason-moments-78-2022-02-08/
LOCATION:Colgan Hall\, Room 202\, SciTech Campus
ATTACH;FMTTYPE=image/jpeg:https://wellbeing.gmu.edu/wp-content/uploads/2021/06/mindfulness-meditation.jpg
END:VEVENT
BEGIN:VEVENT
DTSTART;TZID=America/New_York:20220209T120000
DTEND;TZID=America/New_York:20220209T123000
DTSTAMP:20260423T234410
CREATED:20220113T172605Z
LAST-MODIFIED:20240328T171808Z
UID:3858-1644408000-1644409800@wellbeing.gmu.edu
SUMMARY:Mindful Mason Moments
DESCRIPTION:Mason students\, faculty\, and staff\, take a mindful break in your day and contribute to your well-being through Mindful Mason Moments! These free drop-in mindfulness sessions will take place both online and in-person during the spring 2021 semester. Join online here: go.gmu.edu/MindfulMason
URL:https://wellbeing.gmu.edu/event/mindful-mason-moments-80-2022-02-09/
LOCATION:Online
ATTACH;FMTTYPE=image/jpeg:https://wellbeing.gmu.edu/wp-content/uploads/2021/06/mindfulness-meditation.jpg
END:VEVENT
BEGIN:VEVENT
DTSTART;TZID=America/New_York:20220210T120000
DTEND;TZID=America/New_York:20220210T123000
DTSTAMP:20260423T234410
CREATED:20211122T195558Z
LAST-MODIFIED:20211122T195558Z
UID:3766-1644494400-1644496200@wellbeing.gmu.edu
SUMMARY:Mindful Mason Moments
DESCRIPTION:Mason students\, faculty\, and staff\, take a mindful break in your day and contribute to your well-being through Mindful Mason Moments! These free drop-in mindfulness sessions will take place both online and in-person during the spring 2021 semester.
URL:https://wellbeing.gmu.edu/event/mindful-mason-moments-77-2022-02-10/
LOCATION:Johnson Center\, Room G\, Fairfax Campus
ATTACH;FMTTYPE=image/jpeg:https://wellbeing.gmu.edu/wp-content/uploads/2021/06/mindfulness-meditation.jpg
END:VEVENT
BEGIN:VEVENT
DTSTART;TZID=America/New_York:20220210T120000
DTEND;TZID=America/New_York:20220210T123000
DTSTAMP:20260423T234410
CREATED:20211122T202559Z
LAST-MODIFIED:20211122T202559Z
UID:3793-1644494400-1644496200@wellbeing.gmu.edu
SUMMARY:Mindful Mason Moments
DESCRIPTION:Mason students\, faculty\, and staff\, take a mindful break in your day and contribute to your well-being through Mindful Mason Moments! These free drop-in mindfulness sessions will take place both online and in-person during the spring 2021 semester.
URL:https://wellbeing.gmu.edu/event/mindful-mason-moments-78-2022-02-10/
LOCATION:Colgan Hall\, Room 202\, SciTech Campus
ATTACH;FMTTYPE=image/jpeg:https://wellbeing.gmu.edu/wp-content/uploads/2021/06/mindfulness-meditation.jpg
END:VEVENT
BEGIN:VEVENT
DTSTART;TZID=America/New_York:20220211T120000
DTEND;TZID=America/New_York:20220211T122000
DTSTAMP:20260423T234410
CREATED:20211122T193852Z
LAST-MODIFIED:20220113T172717Z
UID:3748-1644580800-1644582000@wellbeing.gmu.edu
SUMMARY:Mindful Mason Moments
DESCRIPTION:Mason students\, faculty\, and staff\, take a mindful break in your day and contribute to your well-being through Mindful Mason Moments! These free drop-in mindfulness sessions will take place both online and in-person during the spring 2021 semester. Join online here: go.gmu.edu/MindfulMason
URL:https://wellbeing.gmu.edu/event/mindful-mason-moments-76-2022-02-11/
LOCATION:Online
ATTACH;FMTTYPE=image/jpeg:https://wellbeing.gmu.edu/wp-content/uploads/2021/06/mindfulness-meditation.jpg
END:VEVENT
BEGIN:VEVENT
DTSTART;TZID=America/New_York:20220214T120000
DTEND;TZID=America/New_York:20220214T123000
DTSTAMP:20260423T234410
CREATED:20220113T172605Z
LAST-MODIFIED:20220113T172605Z
UID:3859-1644840000-1644841800@wellbeing.gmu.edu
SUMMARY:Mindful Mason Moments
DESCRIPTION:Mason students\, faculty\, and staff\, take a mindful break in your day and contribute to your well-being through Mindful Mason Moments! These free drop-in mindfulness sessions will take place both online and in-person during the spring 2021 semester. Join online here: go.gmu.edu/MindfulMason
URL:https://wellbeing.gmu.edu/event/mindful-mason-moments-80-2022-02-14/
LOCATION:Online
ATTACH;FMTTYPE=image/jpeg:https://wellbeing.gmu.edu/wp-content/uploads/2021/06/mindfulness-meditation.jpg
END:VEVENT
BEGIN:VEVENT
DTSTART;TZID=America/New_York:20220215T120000
DTEND;TZID=America/New_York:20220215T123000
DTSTAMP:20260423T234411
CREATED:20211122T195558Z
LAST-MODIFIED:20211122T195558Z
UID:3767-1644926400-1644928200@wellbeing.gmu.edu
SUMMARY:Mindful Mason Moments
DESCRIPTION:Mason students\, faculty\, and staff\, take a mindful break in your day and contribute to your well-being through Mindful Mason Moments! These free drop-in mindfulness sessions will take place both online and in-person during the spring 2021 semester.
URL:https://wellbeing.gmu.edu/event/mindful-mason-moments-77-2022-02-15/
LOCATION:Johnson Center\, Room G\, Fairfax Campus
ATTACH;FMTTYPE=image/jpeg:https://wellbeing.gmu.edu/wp-content/uploads/2021/06/mindfulness-meditation.jpg
END:VEVENT
BEGIN:VEVENT
DTSTART;TZID=America/New_York:20220215T120000
DTEND;TZID=America/New_York:20220215T123000
DTSTAMP:20260423T234411
CREATED:20211122T202559Z
LAST-MODIFIED:20211122T202559Z
UID:3794-1644926400-1644928200@wellbeing.gmu.edu
SUMMARY:Mindful Mason Moments
DESCRIPTION:Mason students\, faculty\, and staff\, take a mindful break in your day and contribute to your well-being through Mindful Mason Moments! These free drop-in mindfulness sessions will take place both online and in-person during the spring 2021 semester.
URL:https://wellbeing.gmu.edu/event/mindful-mason-moments-78-2022-02-15/
LOCATION:Colgan Hall\, Room 202\, SciTech Campus
ATTACH;FMTTYPE=image/jpeg:https://wellbeing.gmu.edu/wp-content/uploads/2021/06/mindfulness-meditation.jpg
END:VEVENT
BEGIN:VEVENT
DTSTART;TZID=America/New_York:20220216T120000
DTEND;TZID=America/New_York:20220216T123000
DTSTAMP:20260423T234411
CREATED:20220113T172605Z
LAST-MODIFIED:20220113T172605Z
UID:3860-1645012800-1645014600@wellbeing.gmu.edu
SUMMARY:Mindful Mason Moments
DESCRIPTION:Mason students\, faculty\, and staff\, take a mindful break in your day and contribute to your well-being through Mindful Mason Moments! These free drop-in mindfulness sessions will take place both online and in-person during the spring 2021 semester. Join online here: go.gmu.edu/MindfulMason
URL:https://wellbeing.gmu.edu/event/mindful-mason-moments-80-2022-02-16/
LOCATION:Online
ATTACH;FMTTYPE=image/jpeg:https://wellbeing.gmu.edu/wp-content/uploads/2021/06/mindfulness-meditation.jpg
END:VEVENT
BEGIN:VEVENT
DTSTART;TZID=America/New_York:20220216T140000
DTEND;TZID=America/New_York:20220216T170000
DTSTAMP:20260423T234411
CREATED:20220126T173211Z
LAST-MODIFIED:20240401T185554Z
UID:3893-1645020000-1645030800@wellbeing.gmu.edu
SUMMARY:Rx Racial Healing Circle
DESCRIPTION:Join us for a powerful well-being conversation in this first Rx Racial Healing Circle (RHC) of the spring semester! \nLearn more and register here!\nEveryone in the Mason community — students\, faculty\, staff\, and alumni — can join RHCs\, which are designed for community building and racial awareness. This framework is rooted in spiritual and community-sustaining models in many indigenous cultures. The power of the RHC experience comes from sharing stories – telling personal stories (taking us to the heart space) rather than simply relating to an event (the mind space). Circle participants often can see their own experiences in the stories of others\, which helps us to see ourselves in one another.
URL:https://wellbeing.gmu.edu/event/rx-racial-healing-circle/
LOCATION:Online
ATTACH;FMTTYPE=image/png:https://wellbeing.gmu.edu/wp-content/uploads/2021/08/RHC_graphic-cropped.png
END:VEVENT
BEGIN:VEVENT
DTSTART;TZID=America/New_York:20220217T120000
DTEND;TZID=America/New_York:20220217T123000
DTSTAMP:20260423T234411
CREATED:20211122T195558Z
LAST-MODIFIED:20211122T195558Z
UID:3768-1645099200-1645101000@wellbeing.gmu.edu
SUMMARY:Mindful Mason Moments
DESCRIPTION:Mason students\, faculty\, and staff\, take a mindful break in your day and contribute to your well-being through Mindful Mason Moments! These free drop-in mindfulness sessions will take place both online and in-person during the spring 2021 semester.
URL:https://wellbeing.gmu.edu/event/mindful-mason-moments-77-2022-02-17/
LOCATION:Johnson Center\, Room G\, Fairfax Campus
ATTACH;FMTTYPE=image/jpeg:https://wellbeing.gmu.edu/wp-content/uploads/2021/06/mindfulness-meditation.jpg
END:VEVENT
BEGIN:VEVENT
DTSTART;TZID=America/New_York:20220217T120000
DTEND;TZID=America/New_York:20220217T123000
DTSTAMP:20260423T234411
CREATED:20211122T202559Z
LAST-MODIFIED:20211122T202559Z
UID:3795-1645099200-1645101000@wellbeing.gmu.edu
SUMMARY:Mindful Mason Moments
DESCRIPTION:Mason students\, faculty\, and staff\, take a mindful break in your day and contribute to your well-being through Mindful Mason Moments! These free drop-in mindfulness sessions will take place both online and in-person during the spring 2021 semester.
URL:https://wellbeing.gmu.edu/event/mindful-mason-moments-78-2022-02-17/
LOCATION:Colgan Hall\, Room 202\, SciTech Campus
ATTACH;FMTTYPE=image/jpeg:https://wellbeing.gmu.edu/wp-content/uploads/2021/06/mindfulness-meditation.jpg
END:VEVENT
BEGIN:VEVENT
DTSTART;TZID=America/New_York:20220218T120000
DTEND;TZID=America/New_York:20220218T122000
DTSTAMP:20260423T234411
CREATED:20211122T193852Z
LAST-MODIFIED:20211122T193852Z
UID:3749-1645185600-1645186800@wellbeing.gmu.edu
SUMMARY:Mindful Mason Moments
DESCRIPTION:Mason students\, faculty\, and staff\, take a mindful break in your day and contribute to your well-being through Mindful Mason Moments! These free drop-in mindfulness sessions will take place both online and in-person during the spring 2021 semester. Join online here: go.gmu.edu/MindfulMason
URL:https://wellbeing.gmu.edu/event/mindful-mason-moments-76-2022-02-18/
LOCATION:Online
ATTACH;FMTTYPE=image/jpeg:https://wellbeing.gmu.edu/wp-content/uploads/2021/06/mindfulness-meditation.jpg
END:VEVENT
BEGIN:VEVENT
DTSTART;TZID=America/New_York:20220221T120000
DTEND;TZID=America/New_York:20220221T123000
DTSTAMP:20260423T234411
CREATED:20220113T172605Z
LAST-MODIFIED:20220113T172605Z
UID:3861-1645444800-1645446600@wellbeing.gmu.edu
SUMMARY:Mindful Mason Moments
DESCRIPTION:Mason students\, faculty\, and staff\, take a mindful break in your day and contribute to your well-being through Mindful Mason Moments! These free drop-in mindfulness sessions will take place both online and in-person during the spring 2021 semester. Join online here: go.gmu.edu/MindfulMason
URL:https://wellbeing.gmu.edu/event/mindful-mason-moments-80-2022-02-21/
LOCATION:Online
ATTACH;FMTTYPE=image/jpeg:https://wellbeing.gmu.edu/wp-content/uploads/2021/06/mindfulness-meditation.jpg
END:VEVENT
BEGIN:VEVENT
DTSTART;TZID=America/New_York:20220222T120000
DTEND;TZID=America/New_York:20220222T123000
DTSTAMP:20260423T234411
CREATED:20211122T195558Z
LAST-MODIFIED:20211122T195558Z
UID:3769-1645531200-1645533000@wellbeing.gmu.edu
SUMMARY:Mindful Mason Moments
DESCRIPTION:Mason students\, faculty\, and staff\, take a mindful break in your day and contribute to your well-being through Mindful Mason Moments! These free drop-in mindfulness sessions will take place both online and in-person during the spring 2021 semester.
URL:https://wellbeing.gmu.edu/event/mindful-mason-moments-77-2022-02-22/
LOCATION:Johnson Center\, Room G\, Fairfax Campus
ATTACH;FMTTYPE=image/jpeg:https://wellbeing.gmu.edu/wp-content/uploads/2021/06/mindfulness-meditation.jpg
END:VEVENT
BEGIN:VEVENT
DTSTART;TZID=America/New_York:20220222T120000
DTEND;TZID=America/New_York:20220222T123000
DTSTAMP:20260423T234411
CREATED:20211122T202559Z
LAST-MODIFIED:20211122T202559Z
UID:3796-1645531200-1645533000@wellbeing.gmu.edu
SUMMARY:Mindful Mason Moments
DESCRIPTION:Mason students\, faculty\, and staff\, take a mindful break in your day and contribute to your well-being through Mindful Mason Moments! These free drop-in mindfulness sessions will take place both online and in-person during the spring 2021 semester.
URL:https://wellbeing.gmu.edu/event/mindful-mason-moments-78-2022-02-22/
LOCATION:Colgan Hall\, Room 202\, SciTech Campus
ATTACH;FMTTYPE=image/jpeg:https://wellbeing.gmu.edu/wp-content/uploads/2021/06/mindfulness-meditation.jpg
END:VEVENT
BEGIN:VEVENT
DTSTART;TZID=America/New_York:20220223T120000
DTEND;TZID=America/New_York:20220223T123000
DTSTAMP:20260423T234411
CREATED:20220113T172605Z
LAST-MODIFIED:20220113T172605Z
UID:3862-1645617600-1645619400@wellbeing.gmu.edu
SUMMARY:Mindful Mason Moments
DESCRIPTION:Mason students\, faculty\, and staff\, take a mindful break in your day and contribute to your well-being through Mindful Mason Moments! These free drop-in mindfulness sessions will take place both online and in-person during the spring 2021 semester. Join online here: go.gmu.edu/MindfulMason
URL:https://wellbeing.gmu.edu/event/mindful-mason-moments-80-2022-02-23/
LOCATION:Online
ATTACH;FMTTYPE=image/jpeg:https://wellbeing.gmu.edu/wp-content/uploads/2021/06/mindfulness-meditation.jpg
END:VEVENT
BEGIN:VEVENT
DTSTART;TZID=America/New_York:20220224T120000
DTEND;TZID=America/New_York:20220224T123000
DTSTAMP:20260423T234411
CREATED:20211122T195558Z
LAST-MODIFIED:20211122T195558Z
UID:3770-1645704000-1645705800@wellbeing.gmu.edu
SUMMARY:Mindful Mason Moments
DESCRIPTION:Mason students\, faculty\, and staff\, take a mindful break in your day and contribute to your well-being through Mindful Mason Moments! These free drop-in mindfulness sessions will take place both online and in-person during the spring 2021 semester.
URL:https://wellbeing.gmu.edu/event/mindful-mason-moments-77-2022-02-24/
LOCATION:Johnson Center\, Room G\, Fairfax Campus
ATTACH;FMTTYPE=image/jpeg:https://wellbeing.gmu.edu/wp-content/uploads/2021/06/mindfulness-meditation.jpg
END:VEVENT
BEGIN:VEVENT
DTSTART;TZID=America/New_York:20220224T120000
DTEND;TZID=America/New_York:20220224T123000
DTSTAMP:20260423T234411
CREATED:20211122T202559Z
LAST-MODIFIED:20211122T202559Z
UID:3797-1645704000-1645705800@wellbeing.gmu.edu
SUMMARY:Mindful Mason Moments
DESCRIPTION:Mason students\, faculty\, and staff\, take a mindful break in your day and contribute to your well-being through Mindful Mason Moments! These free drop-in mindfulness sessions will take place both online and in-person during the spring 2021 semester.
URL:https://wellbeing.gmu.edu/event/mindful-mason-moments-78-2022-02-24/
LOCATION:Colgan Hall\, Room 202\, SciTech Campus
ATTACH;FMTTYPE=image/jpeg:https://wellbeing.gmu.edu/wp-content/uploads/2021/06/mindfulness-meditation.jpg
END:VEVENT
BEGIN:VEVENT
DTSTART;TZID=America/New_York:20220225T120000
DTEND;TZID=America/New_York:20220225T122000
DTSTAMP:20260423T234411
CREATED:20211122T193852Z
LAST-MODIFIED:20211122T193852Z
UID:3750-1645790400-1645791600@wellbeing.gmu.edu
SUMMARY:Mindful Mason Moments
DESCRIPTION:Mason students\, faculty\, and staff\, take a mindful break in your day and contribute to your well-being through Mindful Mason Moments! These free drop-in mindfulness sessions will take place both online and in-person during the spring 2021 semester. Join online here: go.gmu.edu/MindfulMason
URL:https://wellbeing.gmu.edu/event/mindful-mason-moments-76-2022-02-25/
LOCATION:Online
ATTACH;FMTTYPE=image/jpeg:https://wellbeing.gmu.edu/wp-content/uploads/2021/06/mindfulness-meditation.jpg
END:VEVENT
BEGIN:VEVENT
DTSTART;TZID=America/New_York:20220228T120000
DTEND;TZID=America/New_York:20220228T123000
DTSTAMP:20260423T234411
CREATED:20220113T172605Z
LAST-MODIFIED:20220113T172605Z
UID:3863-1646049600-1646051400@wellbeing.gmu.edu
SUMMARY:Mindful Mason Moments
DESCRIPTION:Mason students\, faculty\, and staff\, take a mindful break in your day and contribute to your well-being through Mindful Mason Moments! These free drop-in mindfulness sessions will take place both online and in-person during the spring 2021 semester. Join online here: go.gmu.edu/MindfulMason
URL:https://wellbeing.gmu.edu/event/mindful-mason-moments-80-2022-02-28/
LOCATION:Online
ATTACH;FMTTYPE=image/jpeg:https://wellbeing.gmu.edu/wp-content/uploads/2021/06/mindfulness-meditation.jpg
END:VEVENT
END:VCALENDAR